BEGIN:VCALENDAR
VERSION:2.0
PRODID:-//Verein für Sächsische Landesgeschichte - ECPv6.15.20//NONSGML v1.0//EN
CALSCALE:GREGORIAN
METHOD:PUBLISH
X-WR-CALNAME:Verein für Sächsische Landesgeschichte
X-ORIGINAL-URL:https://saechsische-landesgeschichte.de
X-WR-CALDESC:Veranstaltungen für Verein für Sächsische Landesgeschichte
REFRESH-INTERVAL;VALUE=DURATION:PT1H
X-Robots-Tag:noindex
X-PUBLISHED-TTL:PT1H
BEGIN:VTIMEZONE
TZID:Europe/Berlin
BEGIN:DAYLIGHT
TZOFFSETFROM:+0100
TZOFFSETTO:+0200
TZNAME:CEST
DTSTART:20250330T010000
END:DAYLIGHT
BEGIN:STANDARD
TZOFFSETFROM:+0200
TZOFFSETTO:+0100
TZNAME:CET
DTSTART:20251026T010000
END:STANDARD
BEGIN:DAYLIGHT
TZOFFSETFROM:+0100
TZOFFSETTO:+0200
TZNAME:CEST
DTSTART:20260329T010000
END:DAYLIGHT
BEGIN:STANDARD
TZOFFSETFROM:+0200
TZOFFSETTO:+0100
TZNAME:CET
DTSTART:20261025T010000
END:STANDARD
BEGIN:DAYLIGHT
TZOFFSETFROM:+0100
TZOFFSETTO:+0200
TZNAME:CEST
DTSTART:20270328T010000
END:DAYLIGHT
BEGIN:STANDARD
TZOFFSETFROM:+0200
TZOFFSETTO:+0100
TZNAME:CET
DTSTART:20271031T010000
END:STANDARD
END:VTIMEZONE
BEGIN:VEVENT
DTSTART;TZID=Europe/Berlin:20260420T170000
DTEND;TZID=Europe/Berlin:20260420T200000
DTSTAMP:20260421T101631
CREATED:20251220T201732Z
LAST-MODIFIED:20251223T140110Z
UID:8453-1776704400-1776715200@saechsische-landesgeschichte.de
SUMMARY:Das mittelalterliche Steinkreuz von Burkhardswalde (Gemeinde Müglitztal)
DESCRIPTION:Die Steinkreuzforschung hat eine lange und intensive Geschichte in Sachsen. Dr. G. A. Kuhfahl widmete sich zu Beginn des 20. Jahrhunderts intensiv dieser Gattung von Kleindenkmälern. Seither dokumentiert und publiziert das Landesamt für Archäologie Sachsen die noch erhaltenen Steinkreuze\, aber auch Abgänge wie Zugänge. Im Frühjahr 2024 gelang es\, ein vor längerer Zeit gefundenes stark beschädigtes Kreuz mithilfe vieler Helfer wieder zu errichten. \nVortrag von Dr. Ingo Kraft (Dresden) \nanschließend Mitgliederversammlung
URL:https://saechsische-landesgeschichte.de/event/das-mittelalterliche-steinkreuz-von-burkhardswalde-gemeinde-mueglitztal/
LOCATION:Hauptstaatsarchiv Dresden\, Archivstraße 14\, Dresden\, 01097
CATEGORIES:Vortrag
END:VEVENT
END:VCALENDAR