BEGIN:VCALENDAR
VERSION:2.0
PRODID:-//Verein für Sächsische Landesgeschichte - ECPv6.15.20//NONSGML v1.0//EN
CALSCALE:GREGORIAN
METHOD:PUBLISH
X-ORIGINAL-URL:https://saechsische-landesgeschichte.de
X-WR-CALDESC:Veranstaltungen für Verein für Sächsische Landesgeschichte
REFRESH-INTERVAL;VALUE=DURATION:PT1H
X-Robots-Tag:noindex
X-PUBLISHED-TTL:PT1H
BEGIN:VTIMEZONE
TZID:Europe/Berlin
BEGIN:DAYLIGHT
TZOFFSETFROM:+0100
TZOFFSETTO:+0200
TZNAME:CEST
DTSTART:20250330T010000
END:DAYLIGHT
BEGIN:STANDARD
TZOFFSETFROM:+0200
TZOFFSETTO:+0100
TZNAME:CET
DTSTART:20251026T010000
END:STANDARD
BEGIN:DAYLIGHT
TZOFFSETFROM:+0100
TZOFFSETTO:+0200
TZNAME:CEST
DTSTART:20260329T010000
END:DAYLIGHT
BEGIN:STANDARD
TZOFFSETFROM:+0200
TZOFFSETTO:+0100
TZNAME:CET
DTSTART:20261025T010000
END:STANDARD
BEGIN:DAYLIGHT
TZOFFSETFROM:+0100
TZOFFSETTO:+0200
TZNAME:CEST
DTSTART:20270328T010000
END:DAYLIGHT
BEGIN:STANDARD
TZOFFSETFROM:+0200
TZOFFSETTO:+0100
TZNAME:CET
DTSTART:20271031T010000
END:STANDARD
END:VTIMEZONE
BEGIN:VEVENT
DTSTART;TZID=Europe/Berlin:20261116T180000
DTEND;TZID=Europe/Berlin:20261116T193000
DTSTAMP:20260425T122509
CREATED:20251220T204557Z
LAST-MODIFIED:20251223T140021Z
UID:8473-1794852000-1794857400@saechsische-landesgeschichte.de
SUMMARY:Die Renaissance-Festung Dresden. Ein historischer Überblick zur neuzeitlichen Befestigung der heutigen Altstadt
DESCRIPTION:In der Mitte des 16. Jahrhunderts ließ Kurfürst Moritz seine Residenzstadt Dresden auf die damals modernste Weise befestigen. Dabei transferierte er Wissen quer durch Europa\, das in Dresden schöpferisch angewandt wurde\, noch bevor die von ihm andernorts gesehenen Bauten fertiggestellt waren. Ausgehend von den Vorbildern in Flandern erläutert der Vortrag die verschiedenen Bauphasen der Festung Dresden. Fehlender Wille und falsche Entscheidungen führten zu Stagnation\, Vernachlässigung und zur Katastrophe im Siebenjährigen Krieg. Ausgehend von der Demolition der Festung im ersten Drittel des 19. Jahrhunderts werden Beispiele für Spuren der Festung im Stadtbild der letzten 150 Jahre gezeigt. Abschließend wird auf verschiedene erfolglose und gelungene Versuche\, die Renaissance-Festung Dresden endgültig in das Bewusstsein der Öffentlichkeit zurückzuholen\, eingegangen. \nVortrag von Götz Krüger (Dresden) \nKooperationsveranstaltung mit dem Dresdner Geschichtsverein
URL:https://saechsische-landesgeschichte.de/event/die-renaissance-festung-dresden-ein-historischer-ueberblick-zur-neuzeitlichen-befestigung-der-heutigen-altstadt/
LOCATION:Hauptstaatsarchiv Dresden\, Archivstraße 14\, Dresden\, 01097
CATEGORIES:Vortrag
END:VEVENT
END:VCALENDAR