BEGIN:VCALENDAR
VERSION:2.0
PRODID:-//Verein für Sächsische Landesgeschichte - ECPv6.15.20//NONSGML v1.0//EN
CALSCALE:GREGORIAN
METHOD:PUBLISH
X-WR-CALNAME:Verein für Sächsische Landesgeschichte
X-ORIGINAL-URL:https://saechsische-landesgeschichte.de
X-WR-CALDESC:Veranstaltungen für Verein für Sächsische Landesgeschichte
REFRESH-INTERVAL;VALUE=DURATION:PT1H
X-Robots-Tag:noindex
X-PUBLISHED-TTL:PT1H
BEGIN:VTIMEZONE
TZID:Europe/Berlin
BEGIN:DAYLIGHT
TZOFFSETFROM:+0100
TZOFFSETTO:+0200
TZNAME:CEST
DTSTART:20250330T010000
END:DAYLIGHT
BEGIN:STANDARD
TZOFFSETFROM:+0200
TZOFFSETTO:+0100
TZNAME:CET
DTSTART:20251026T010000
END:STANDARD
BEGIN:DAYLIGHT
TZOFFSETFROM:+0100
TZOFFSETTO:+0200
TZNAME:CEST
DTSTART:20260329T010000
END:DAYLIGHT
BEGIN:STANDARD
TZOFFSETFROM:+0200
TZOFFSETTO:+0100
TZNAME:CET
DTSTART:20261025T010000
END:STANDARD
BEGIN:DAYLIGHT
TZOFFSETFROM:+0100
TZOFFSETTO:+0200
TZNAME:CEST
DTSTART:20270328T010000
END:DAYLIGHT
BEGIN:STANDARD
TZOFFSETFROM:+0200
TZOFFSETTO:+0100
TZNAME:CET
DTSTART:20271031T010000
END:STANDARD
END:VTIMEZONE
BEGIN:VEVENT
DTSTART;TZID=Europe/Berlin:20260518T180000
DTEND;TZID=Europe/Berlin:20260518T193000
DTSTAMP:20260424T205949
CREATED:20251220T201917Z
LAST-MODIFIED:20251223T135955Z
UID:8455-1779127200-1779132600@saechsische-landesgeschichte.de
SUMMARY:Marie Simon – „das beste Vorbild der werkthätigen Barmherzigkeit\, energisch\, einsichtsvoll und ausdauernd“
DESCRIPTION:Mit den im Vortragstitel zitierten Worten lobte Henry Dunant\, der Gründer des Roten Kreuzes\, Marie Simon und ihren humanitären Einsatz im Sommer 1866 nach der Schlacht von Königgrätz. Wie so viele Frauen\, die Hervorragendes geleistet haben\, wurde die seit 1852 in Dresden lebende Sorbin Marie Simon (1824-1877) nach ihrem Tod weitgehend vergessen. Der Vortrag schildert den beeindruckenden Weg jener Frau\, die das Rote Kreuz in Sachsen mitgegründet hat und zu einer in ganz Europa bewunderten Pionierin der weltlichen Krankenpflege wurde. Sie gründete mit Kronprinzessin Carola das Carola-Krankenhaus in Dresden und die Deutsche Heilstätte in Loschwitz und kämpfte dafür\, dass die Krankenpflege als Beruf für Frauen anerkannt wurde. \nVortrag von Thomas Klemp (DRK-Landesverband Sachsen) \n(Beitragsbild: Hermann Scherenberg\, Porträt von Marie Simon\, in: Illustrirte Zeitung (1871)\, Nr. 57\, S. 69\, via Wikimedia Commons)
URL:https://saechsische-landesgeschichte.de/event/marie-simon-das-beste-vorbild-der-werkthaetigen-barmherzigkeit-energisch-einsichtsvoll-und-ausdauernd/
LOCATION:Hauptstaatsarchiv Dresden\, Archivstraße 14\, Dresden\, 01097
CATEGORIES:Vortrag
ATTACH;FMTTYPE=image/jpeg:https://saechsische-landesgeschichte.de/wp-content/uploads/2025/12/Marie_Simon-Illustrirte-Zeitung.jpg
END:VEVENT
BEGIN:VEVENT
DTSTART;TZID=Europe/Berlin:20260608T180000
DTEND;TZID=Europe/Berlin:20260608T193000
DTSTAMP:20260424T205949
CREATED:20251220T202123Z
LAST-MODIFIED:20251223T140102Z
UID:8457-1780941600-1780947000@saechsische-landesgeschichte.de
SUMMARY:Werkstattgespräche: Aktuelle Projekte unserer Mitglieder
DESCRIPTION:Dieses neue Format stellt aktuelle Projekte unserer Vereinsmitglieder in den Mittelpunkt. In Kurzpräsentationen werden laufende Forschungen vorgestellt und gemeinsam erörtert. Bei Interesse kann das Format über 2026 hinaus fortgesetzt werden. \nDr. Bernd Kunzmann: Die Besiedlung der Erzgebirgsregion im ausgehenden Hochmittelalter – Aufstieg und Abstieg siedlungsführender kleiner Herrschaftsträger \nAndreas Bednara: Geschichte des Schönfelder Schlosses \nCarla Schmidt: Die Verfolgung von als „asozial“ stigmatisierten Personen in Zwickau (1933-1945)
URL:https://saechsische-landesgeschichte.de/event/werkstattgespraeche-aktuelle-projekte-unserer-mitglieder/
LOCATION:Hauptstaatsarchiv Dresden\, Archivstraße 14\, Dresden\, 01097
CATEGORIES:Workshop
END:VEVENT
BEGIN:VEVENT
DTSTART;TZID=Europe/Berlin:20260829T100000
DTEND;TZID=Europe/Berlin:20260829T160000
DTSTAMP:20260424T205949
CREATED:20251220T202617Z
LAST-MODIFIED:20251223T140051Z
UID:8461-1787997600-1788019200@saechsische-landesgeschichte.de
SUMMARY:Sommerfest
DESCRIPTION:Wir freuen uns auf interessante Begegnungen in der Stadt des roten Porphyr Rochlitz. Der Oberbürgermeister und der Rochlitzer Geschichtsverein werden uns Geschichte und Gegenwart näherbringen. Bei einer Führung durch eine der ältesten Burgen Sachsens mit ihren weithin sichtbaren Jupen erfahren wir mehr über die wechselvolle Geschichte der Stadt. Der Rochlitzer Geschichtsverein zeigt uns bei einem Rundgang die Sehenswürdigkeiten wie Fürstenzug\, Kunigundenkirche\, alte Lateinschule mit Bibliothek\, Sternradio. Bei Mittagsimbiss und Kaffeetrinken ist Gelegenheit zum Gedankenaustausch. Ein Vortrag von Dr. Jens Klingner zum Briefwechsel der Herzogin Elisabeth von Rochlitz rundet das Sommerfest ab. \nKooperationsveranstaltung mit der Stadt Rochlitz und dem Rochlitzer Geschichtsverein
URL:https://saechsische-landesgeschichte.de/event/sommerfest/
LOCATION:Rochlitz
CATEGORIES:Sommerfest
END:VEVENT
BEGIN:VEVENT
DTSTART;TZID=Europe/Berlin:20260921T180000
DTEND;TZID=Europe/Berlin:20260921T193000
DTSTAMP:20260424T205949
CREATED:20251220T202754Z
LAST-MODIFIED:20251223T140044Z
UID:8463-1790013600-1790019000@saechsische-landesgeschichte.de
SUMMARY:„Die Sache der Griechen\, die Sache Europas“ – Sächsische Unterstützung des griechischen Befreiungskampfes (1821-1829)
DESCRIPTION:Der Aufstand der Griechen gegen die türkische Fremdherrschaft löste im Frühjahr 1821 einen europaweiten Impuls der Solidarität aus. In Deutschland riefen zwei Leipziger Professoren als Erste öffentlich zur Unterstützung Griechenlands auf\, womit Sachsen zu einem Zentrum philhellenischer Aktivitäten wurde. Unter dem Druck der konservativen Regierung wurden Sachsens Philhellenen ab Herbst 1821 in die Halblegalität gedrängt\, bis es 1826\, unter Führung des „Dresdner Vereins zur Unterstützung hülfsbedürftiger Griechen“\, zu einem organisatorischen Zusammenschluss und einer offiziell geduldeten landesweiten Solidaritäts- und Sammlungsbewegung kam. \nVortrag von Dr. Jörg Ludwig (Dresden)
URL:https://saechsische-landesgeschichte.de/event/die-sache-der-griechen-die-sache-europas-saechsische-unterstuetzung-des-griechischen-befreiungskampfes-1821-1829die-sache-der-griechen-die-sache-europas/
LOCATION:Hauptstaatsarchiv Dresden\, Archivstraße 14\, Dresden\, 01097
CATEGORIES:Vortrag
END:VEVENT
BEGIN:VEVENT
DTSTART;TZID=Europe/Berlin:20261012T180000
DTEND;TZID=Europe/Berlin:20261012T193000
DTSTAMP:20260424T205949
CREATED:20251220T203007Z
LAST-MODIFIED:20251223T140037Z
UID:8465-1791828000-1791833400@saechsische-landesgeschichte.de
SUMMARY:Jüdische Räume in Sachsen – digital
DESCRIPTION:Wo war jüdisches Leben in Sachsen in der Vergangenheit sichtbar? Wie lässt es sich heute im digitalen Raum wieder präsent machen? Diesen und anderen Fragen widmete sich ein Seminar am Institut für Geschichte der Technischen Universität Dresden im Wintersemester 2025/26 unter Anwendung von Methoden der Spatial Humanities. Die Ergebnisse werden durch studentische Projektgruppen vorgestellt. \nVortrag und Präsentation mit Martin Munke (Dresden) und Studierenden \nEine Veranstaltung im Rahmen von „Tacheles – Jahr der jüdischen Kultur in Sachsen 2026“
URL:https://saechsische-landesgeschichte.de/event/juedische-raeume-in-sachsen-digital/
LOCATION:Sächsische Landesbibliothek – Staats- und Universitätsbibliothek Dresden (SLUB)\, Klemperer-Saal\, Zellescher Weg 18\, Dresden\, 01069
CATEGORIES:Vortrag
END:VEVENT
BEGIN:VEVENT
DTSTART;TZID=Europe/Berlin:20261026T100000
DTEND;TZID=Europe/Berlin:20261026T140000
DTSTAMP:20260424T205949
CREATED:20251220T204334Z
LAST-MODIFIED:20251223T140028Z
UID:8471-1793008800-1793023200@saechsische-landesgeschichte.de
SUMMARY:#Geschichtsvereine26 – Heimatforschung und Schule
DESCRIPTION:In vielen Gemeinden Sachsens wird heimatkundliche und ortschronistische Arbeit geleistet. Mit großem Engagement analysieren Geschichtsvereine Quellen und betreuen Dokumentationen und Sammlungen. Auch unter jungen Menschen sind das Geschichtsinteresse und der eigene Forschergeist groß. Die Beteiligung am Geschichtswettbewerb des Bundespräsidenten und an den Sächsischen Jugendgeschichtstagen geben davon beeindruckendes Zeugnis. Wie können die Ergebnisse der Jugendprojekte in die Arbeit der Geschichtsvereine einfließen und das Potential der lokalen Heimatforschung für einen lebendigeren Geschichtsunterricht genutzt werden? Über Synergien in diesem Feld möchten wir mit Vereinen\, Kultureinrichtungen\, Lehrkräften sowie Schülerinnen und Schülern im Sächsischen Landtag diskutieren. \nWorkshop in Kooperation mit dem Sächsischen Landeskuratorium Ländlicher Raum und unter Schirmherrschaft des Landtagspräsidenten
URL:https://saechsische-landesgeschichte.de/event/geschichtsvereine26-heimatforschung-und-schule/
LOCATION:Sächsischer Landtag\, Bernhard-von-Lindenau-Platz 1\, Dresden\, 01067
CATEGORIES:Workshop
ATTACH;FMTTYPE=image/jpeg:https://saechsische-landesgeschichte.de/wp-content/uploads/2021/11/Workshop-SLG-78-1500x1001-2.jpg
END:VEVENT
BEGIN:VEVENT
DTSTART;TZID=Europe/Berlin:20261116T180000
DTEND;TZID=Europe/Berlin:20261116T193000
DTSTAMP:20260424T205949
CREATED:20251220T204557Z
LAST-MODIFIED:20251223T140021Z
UID:8473-1794852000-1794857400@saechsische-landesgeschichte.de
SUMMARY:Die Renaissance-Festung Dresden. Ein historischer Überblick zur neuzeitlichen Befestigung der heutigen Altstadt
DESCRIPTION:In der Mitte des 16. Jahrhunderts ließ Kurfürst Moritz seine Residenzstadt Dresden auf die damals modernste Weise befestigen. Dabei transferierte er Wissen quer durch Europa\, das in Dresden schöpferisch angewandt wurde\, noch bevor die von ihm andernorts gesehenen Bauten fertiggestellt waren. Ausgehend von den Vorbildern in Flandern erläutert der Vortrag die verschiedenen Bauphasen der Festung Dresden. Fehlender Wille und falsche Entscheidungen führten zu Stagnation\, Vernachlässigung und zur Katastrophe im Siebenjährigen Krieg. Ausgehend von der Demolition der Festung im ersten Drittel des 19. Jahrhunderts werden Beispiele für Spuren der Festung im Stadtbild der letzten 150 Jahre gezeigt. Abschließend wird auf verschiedene erfolglose und gelungene Versuche\, die Renaissance-Festung Dresden endgültig in das Bewusstsein der Öffentlichkeit zurückzuholen\, eingegangen. \nVortrag von Götz Krüger (Dresden) \nKooperationsveranstaltung mit dem Dresdner Geschichtsverein
URL:https://saechsische-landesgeschichte.de/event/die-renaissance-festung-dresden-ein-historischer-ueberblick-zur-neuzeitlichen-befestigung-der-heutigen-altstadt/
LOCATION:Hauptstaatsarchiv Dresden\, Archivstraße 14\, Dresden\, 01097
CATEGORIES:Vortrag
END:VEVENT
BEGIN:VEVENT
DTSTART;TZID=Europe/Berlin:20261207T180000
DTEND;TZID=Europe/Berlin:20261207T193000
DTSTAMP:20260424T205949
CREATED:20251220T204846Z
LAST-MODIFIED:20251223T140149Z
UID:8476-1796666400-1796671800@saechsische-landesgeschichte.de
SUMMARY:Lausitz – Balkan – Palästina: Ein sorbisches Reporterleben im 20. Jahrhundert
DESCRIPTION:Der sorbische Journalist Jurij Wićaz (1899–1974) führte ein außergewöhnliches Leben in einer bewegten Zeit. Er war ein Grenzgänger in mehrfacher Hinsicht – geografisch\, sprachlich und kulturell. Aufgewachsen in einem kleinen Oberlausitzer Gutsdorf\, führte ihn sein Weg nach Prag\, wo er als Reporter für verschiedene Zeitungen und Nachrichtenagenturen tätig war. Ab Mitte der 1920er-Jahre berichtete er als Auslandskorrespondent aus den Ländern des Balkan\, bis ihn der Ausbruch des Zweiten Weltkriegs zur Flucht über Istanbul nach Jerusalem zwang. Seine Erinnerungen an diese turbulenten Jahre schrieb Wićaz in den 1960er-Jahren nieder\, geriet dabei jedoch in Konflikt mit der Zensur in der DDR. Diese lebendigen\, oft überraschend humorvollen Texte sind eine literarische wie zeitgeschichtliche Wiederentdeckung und liegen nun erstmals ungekürzt und in deutscher Übersetzung vor. \nLesung mit Dr. Friedrich Pollack (Dresden) im Klemperer-Saal der SLUB Dresden \nKooperationsveranstaltung mit dem Domowina-Verlag Bautzen
URL:https://saechsische-landesgeschichte.de/event/lausitz-balkan-palaestina-ein-sorbisches-reporterleben-im-20-jahrhundert/
LOCATION:Sächsische Landesbibliothek – Staats- und Universitätsbibliothek Dresden (SLUB)\, Klemperer-Saal\, Zellescher Weg 18\, Dresden\, 01069
CATEGORIES:Buchpräsentation
ATTACH;FMTTYPE=image/jpeg:https://saechsische-landesgeschichte.de/wp-content/uploads/2025/12/Pollack_0-1-Wicaz-2-scaled.jpg
END:VEVENT
END:VCALENDAR