BEGIN:VCALENDAR
VERSION:2.0
PRODID:-//Verein für Sächsische Landesgeschichte - ECPv6.15.20//NONSGML v1.0//EN
CALSCALE:GREGORIAN
METHOD:PUBLISH
X-ORIGINAL-URL:https://saechsische-landesgeschichte.de
X-WR-CALDESC:Veranstaltungen für Verein für Sächsische Landesgeschichte
REFRESH-INTERVAL;VALUE=DURATION:PT1H
X-Robots-Tag:noindex
X-PUBLISHED-TTL:PT1H
BEGIN:VTIMEZONE
TZID:Europe/Berlin
BEGIN:DAYLIGHT
TZOFFSETFROM:+0100
TZOFFSETTO:+0200
TZNAME:CEST
DTSTART:20250330T010000
END:DAYLIGHT
BEGIN:STANDARD
TZOFFSETFROM:+0200
TZOFFSETTO:+0100
TZNAME:CET
DTSTART:20251026T010000
END:STANDARD
BEGIN:DAYLIGHT
TZOFFSETFROM:+0100
TZOFFSETTO:+0200
TZNAME:CEST
DTSTART:20260329T010000
END:DAYLIGHT
BEGIN:STANDARD
TZOFFSETFROM:+0200
TZOFFSETTO:+0100
TZNAME:CET
DTSTART:20261025T010000
END:STANDARD
BEGIN:DAYLIGHT
TZOFFSETFROM:+0100
TZOFFSETTO:+0200
TZNAME:CEST
DTSTART:20270328T010000
END:DAYLIGHT
BEGIN:STANDARD
TZOFFSETFROM:+0200
TZOFFSETTO:+0100
TZNAME:CET
DTSTART:20271031T010000
END:STANDARD
END:VTIMEZONE
BEGIN:VEVENT
DTSTART;TZID=Europe/Berlin:20260323T180000
DTEND;TZID=Europe/Berlin:20260323T193000
DTSTAMP:20260424T232150
CREATED:20251220T201453Z
LAST-MODIFIED:20251223T140119Z
UID:8451-1774288800-1774294200@saechsische-landesgeschichte.de
SUMMARY:Der Leipziger Altertumsverein
DESCRIPTION:1824 zählt zu den Schlüsseljahren der frühen Altertumsforschung in Sachsen. In Leipzig wurde der Sächsische Verein für Erforschung vaterländischer Alterthümer gegründet\, während nahezu zeitgleich in Dresden ein ähnlich ausgerichteter Verein entstand. Beide Gründungen zeigen das wachsende Interesse an der Erforschung der Kulturgeschichte\, an archäologischen Funden und an der systematischen Dokumentation regionaler Altertümer. Während der Dresdner Verein in der Forschung und im kulturhistorischen Gedächtnis präsent blieb\, geriet die Leipziger Initiative weitgehend in Vergessenheit. Der Vortrag stellt neu erschlossene Quellen zum Leipziger Verein vor\, beleuchtet die Netzwerke\, Zielsetzungen und Sammlungspraktiken seiner führenden Mitglieder und setzt sie in Beziehung zu den Entwicklungen in Dresden. \nVortrag von Dr. Michael Ruprecht (Leipzig) \n(Beitragsbild: Porträt von Christan Ludwig Stieglitz (1838)\, Mitbegründer des Leipziger Altertumsvereins\, in: Allgemeine Bauzeitung vom 24. November 1838\, Digitalisat: Staatsbibliothek Bamberg)
URL:https://saechsische-landesgeschichte.de/event/der-leipziger-altertumsverein/
LOCATION:Hauptstaatsarchiv Dresden\, Archivstraße 14\, Dresden\, 01097
CATEGORIES:Vortrag
ATTACH;FMTTYPE=image/jpeg:https://saechsische-landesgeschichte.de/wp-content/uploads/2025/12/Rupprecht_Altertumsforschung-Leipzig_Stieglitz-beschnitten.jpg
END:VEVENT
END:VCALENDAR