BEGIN:VCALENDAR
VERSION:2.0
PRODID:-//Verein für Sächsische Landesgeschichte - ECPv6.15.20//NONSGML v1.0//EN
CALSCALE:GREGORIAN
METHOD:PUBLISH
X-WR-CALNAME:Verein für Sächsische Landesgeschichte
X-ORIGINAL-URL:https://saechsische-landesgeschichte.de
X-WR-CALDESC:Veranstaltungen für Verein für Sächsische Landesgeschichte
REFRESH-INTERVAL;VALUE=DURATION:PT1H
X-Robots-Tag:noindex
X-PUBLISHED-TTL:PT1H
BEGIN:VTIMEZONE
TZID:Europe/Berlin
BEGIN:DAYLIGHT
TZOFFSETFROM:+0100
TZOFFSETTO:+0200
TZNAME:CEST
DTSTART:20250330T010000
END:DAYLIGHT
BEGIN:STANDARD
TZOFFSETFROM:+0200
TZOFFSETTO:+0100
TZNAME:CET
DTSTART:20251026T010000
END:STANDARD
BEGIN:DAYLIGHT
TZOFFSETFROM:+0100
TZOFFSETTO:+0200
TZNAME:CEST
DTSTART:20260329T010000
END:DAYLIGHT
BEGIN:STANDARD
TZOFFSETFROM:+0200
TZOFFSETTO:+0100
TZNAME:CET
DTSTART:20261025T010000
END:STANDARD
BEGIN:DAYLIGHT
TZOFFSETFROM:+0100
TZOFFSETTO:+0200
TZNAME:CEST
DTSTART:20270328T010000
END:DAYLIGHT
BEGIN:STANDARD
TZOFFSETFROM:+0200
TZOFFSETTO:+0100
TZNAME:CET
DTSTART:20271031T010000
END:STANDARD
END:VTIMEZONE
BEGIN:VEVENT
DTSTART;TZID=Europe/Berlin:20260518T180000
DTEND;TZID=Europe/Berlin:20260518T193000
DTSTAMP:20260424T232602
CREATED:20251220T201917Z
LAST-MODIFIED:20251223T135955Z
UID:8455-1779127200-1779132600@saechsische-landesgeschichte.de
SUMMARY:Marie Simon – „das beste Vorbild der werkthätigen Barmherzigkeit\, energisch\, einsichtsvoll und ausdauernd“
DESCRIPTION:Mit den im Vortragstitel zitierten Worten lobte Henry Dunant\, der Gründer des Roten Kreuzes\, Marie Simon und ihren humanitären Einsatz im Sommer 1866 nach der Schlacht von Königgrätz. Wie so viele Frauen\, die Hervorragendes geleistet haben\, wurde die seit 1852 in Dresden lebende Sorbin Marie Simon (1824-1877) nach ihrem Tod weitgehend vergessen. Der Vortrag schildert den beeindruckenden Weg jener Frau\, die das Rote Kreuz in Sachsen mitgegründet hat und zu einer in ganz Europa bewunderten Pionierin der weltlichen Krankenpflege wurde. Sie gründete mit Kronprinzessin Carola das Carola-Krankenhaus in Dresden und die Deutsche Heilstätte in Loschwitz und kämpfte dafür\, dass die Krankenpflege als Beruf für Frauen anerkannt wurde. \nVortrag von Thomas Klemp (DRK-Landesverband Sachsen) \n(Beitragsbild: Hermann Scherenberg\, Porträt von Marie Simon\, in: Illustrirte Zeitung (1871)\, Nr. 57\, S. 69\, via Wikimedia Commons)
URL:https://saechsische-landesgeschichte.de/event/marie-simon-das-beste-vorbild-der-werkthaetigen-barmherzigkeit-energisch-einsichtsvoll-und-ausdauernd/
LOCATION:Hauptstaatsarchiv Dresden\, Archivstraße 14\, Dresden\, 01097
CATEGORIES:Vortrag
ATTACH;FMTTYPE=image/jpeg:https://saechsische-landesgeschichte.de/wp-content/uploads/2025/12/Marie_Simon-Illustrirte-Zeitung.jpg
END:VEVENT
END:VCALENDAR