BEGIN:VCALENDAR
VERSION:2.0
PRODID:-//Verein für Sächsische Landesgeschichte - ECPv6.15.20//NONSGML v1.0//EN
CALSCALE:GREGORIAN
METHOD:PUBLISH
X-ORIGINAL-URL:https://saechsische-landesgeschichte.de
X-WR-CALDESC:Veranstaltungen für Verein für Sächsische Landesgeschichte
REFRESH-INTERVAL;VALUE=DURATION:PT1H
X-Robots-Tag:noindex
X-PUBLISHED-TTL:PT1H
BEGIN:VTIMEZONE
TZID:Europe/Berlin
BEGIN:DAYLIGHT
TZOFFSETFROM:+0100
TZOFFSETTO:+0200
TZNAME:CEST
DTSTART:20220327T010000
END:DAYLIGHT
BEGIN:STANDARD
TZOFFSETFROM:+0200
TZOFFSETTO:+0100
TZNAME:CET
DTSTART:20221030T010000
END:STANDARD
BEGIN:DAYLIGHT
TZOFFSETFROM:+0100
TZOFFSETTO:+0200
TZNAME:CEST
DTSTART:20230326T010000
END:DAYLIGHT
BEGIN:STANDARD
TZOFFSETFROM:+0200
TZOFFSETTO:+0100
TZNAME:CET
DTSTART:20231029T010000
END:STANDARD
BEGIN:DAYLIGHT
TZOFFSETFROM:+0100
TZOFFSETTO:+0200
TZNAME:CEST
DTSTART:20240331T010000
END:DAYLIGHT
BEGIN:STANDARD
TZOFFSETFROM:+0200
TZOFFSETTO:+0100
TZNAME:CET
DTSTART:20241027T010000
END:STANDARD
END:VTIMEZONE
BEGIN:VEVENT
DTSTART;TZID=Europe/Berlin:20231212T180000
DTEND;TZID=Europe/Berlin:20231212T193000
DTSTAMP:20260421T103419
CREATED:20221223T160035Z
LAST-MODIFIED:20230112T135636Z
UID:5867-1702404000-1702409400@saechsische-landesgeschichte.de
SUMMARY:Die Afrika-Expedition Augusts des Starken. Globalisierung zwischen Wissenschaft\, Exotismus und Politik
DESCRIPTION:August der Starke entsandte gegen Ende seiner Regierungszeit eine Expedition nach Afrika\, um dort „alles Merckwürdige der Natur und Kunst“ untersuchen zu lassen. Dafür schickte er zwei Leipziger Professoren mit einem Team aus Wissenschaftlern und Zeichnern auf die Reise. Geplant war\, den immer noch weitgehend unbekannten Kontinent von der Mittelmeerküste bis zum Kap der Guten Hoffnung zu erkunden. Weiter als Nordafrika kamen die Forscher aber nicht. Nach dem Tod des Kurfürsten 1733 beorderte sie sein Sohn August III. zurück nach Sachsen. Die sächsische Afrika-Expedition zeugt vom Interesse an fernen\, ‚exotischen’ Welten und vom Versuch\, diese nach Sachsen zu bringen. Sie steht aber zugleich für die Bestrebungen der europäischen Mächte der Zeit\, sich diese Welt anzueignen und sie sich zu unterwerfen. \nVortrag von Prof. Dr. Andreas Rutz (Dresden) im Hauptstaatsarchiv Dresden aus dem Vortragsprogramm #ISGV25 zum 25-jährigen Jubiläum des Instituts für Sächsische Geschichte und Volkskunde 2022/2023
URL:https://saechsische-landesgeschichte.de/event/die-afrika-expedition-augusts-des-starken-globalisierung-zwischen-wissenschaft-exotismus-und-politik/
LOCATION:Hauptstaatsarchiv Dresden\, Archivstraße 14\, Dresden\, 01097
CATEGORIES:Vortrag
ORGANIZER;CN="Verein f%C3%BCr s%C3%A4chsische Landesgeschichte":MAILTO:kontakt@saechsische-landesgeschichte.de
END:VEVENT
END:VCALENDAR